BEGIN:VCALENDAR
VERSION:2.0
PRODID:-//ChamberMaster//Event Calendar 2.0//EN
METHOD:PUBLISH
X-PUBLISHED-TTL:P3D
REFRESH-INTERVAL:P3D
CALSCALE:GREGORIAN
BEGIN:VEVENT
DTSTART:20150508T120000Z
DTEND:20150508T190000Z
X-MICROSOFT-CDO-ALLDAYEVENT:FALSE
SUMMARY:Wayne Automatic Fire Sprinklers 2015 CCCIA Spring Classic
DESCRIPTION:****SOLD OUT****\n\nWayne Automatic Fire Sprinklers \n\n2015 CCCIA Spring Classic
X-ALT-DESC;FMTTYPE=text/html:****SOLD OUT****<br />\nWayne Automatic Fire Sprinklers&nbsp\;<br />\n2015 CCCIA&nbsp\;Spring&nbsp\;Classic<br />\n&nbsp\;
LOCATION:Palmetto Pines Golf and Country Club 1940 SW 9th Court Cape Coral\, FL 33991
UID:e.9117.484
SEQUENCE:3
DTSTAMP:20260421T013748Z
URL:http://cccia-dev.memberzone.com/events/details/wayne-automatic-fire-sprinklers-2015-cccia-spring-classic-05-08-2015-484
END:VEVENT

END:VCALENDAR
