BEGIN:VCALENDAR
VERSION:2.0
PRODID:-//ChamberMaster//Event Calendar 2.0//EN
METHOD:PUBLISH
X-PUBLISHED-TTL:P3D
REFRESH-INTERVAL:P3D
CALSCALE:GREGORIAN
BEGIN:VEVENT
DTSTART:20160623T213000Z
DTEND:20160624T000000Z
X-MICROSOFT-CDO-ALLDAYEVENT:FALSE
SUMMARY:SOS Smackdown to benefit Cape Caring Center
DESCRIPTION:SOS Smackdown To Benefit \n\nThe Cape Caring Center     \n\nCome Out & Support the CCCIA \n\nAt This Years Smackdown To Fight Hunger In The Cape
X-ALT-DESC;FMTTYPE=text/html:<span style="font-size:16px\;"><span style="font-family:arial\;"><strong>SOS Smackdown To Benefit&nbsp\;<br />\nThe Cape Caring Center&nbsp\;&nbsp\;&nbsp\;&nbsp\;&nbsp\;<br />\nCome Out &amp\; Support the CCCIA&nbsp\;<br />\nAt This Years Smackdown&nbsp\;To Fight Hunger In The Cape&nbsp\;</strong></span></span>
LOCATION:Dixie Roadhouse 1023 SE 47th Terrace Cape Coral FL 33904
UID:e.9117.509
SEQUENCE:3
DTSTAMP:20260420T031537Z
URL:http://cccia-dev.memberzone.com/events/details/sos-smackdown-to-benefit-cape-caring-center-06-23-2016-509
END:VEVENT

END:VCALENDAR
