BEGIN:VCALENDAR
VERSION:2.0
PRODID:-//ChamberMaster//Event Calendar 2.0//EN
METHOD:PUBLISH
X-PUBLISHED-TTL:P3D
REFRESH-INTERVAL:P3D
CALSCALE:GREGORIAN
BEGIN:VEVENT
DTSTART:20150910T213000Z
DTEND:20150910T234500Z
X-MICROSOFT-CDO-ALLDAYEVENT:FALSE
SUMMARY:September General Membership Dinner Meeting
DESCRIPTION:CCCIA September General Membership Dinner Meeting    \n\nTopic:  Contractors Roundtable Forum \n\n           \n\nModerator: \n\n                 \n\nDinner Sponsor:
X-ALT-DESC;FMTTYPE=text/html:<span style="font-size: 14px\;"><em style="line-height: 20.7999992370605px\;"><strong><span style="line-height: 20.7999992370605px\;">CCCIA&nbsp\;September General Membership Dinner Meeting&nbsp\;&nbsp\;&nbsp\;&nbsp\;</span></strong></em></span><br style="line-height: 20.7999992370605px\;" />\n<em style="line-height: 20.7999992370605px\;"><span style="font-size: 14px\;"><strong style="line-height: 20.7999992370605px\;">Topic: &nbsp\;Contractors Roundtable Forum&nbsp\;<br />\n&nbsp\; &nbsp\; &nbsp\; &nbsp\; &nbsp\; &nbsp\;</strong></span></em><br style="line-height: 20.7999992370605px\;" />\n<em style="line-height: 20.7999992370605px\;"><span style="font-size: 14px\;"><strong style="line-height: 20.7999992370605px\;">Moderator:&nbsp\;</strong><br style="line-height: 20.7999992370605px\;" />\n<span style="line-height: 20.7999992370605px\;">&nbsp\;&nbsp\; &nbsp\; &nbsp\; &nbsp\; &nbsp\; &nbsp\; &nbsp\; &nbsp\;</span><strong style="line-height: 20.7999992370605px\;">&nbsp\;</strong><br style="line-height: 20.7999992370605px\;" />\n<strong style="line-height: 20.7999992370605px\;">Dinner Sponsor:</strong><span style="line-height: 20.7999992370605px\;">&nbsp\;</span><span style="line-height: 20.7999992370605px\;">&nbsp\;&nbsp\;</span></span></em>
LOCATION:Palmetto Pines Country Club 1940 SW 9th Court Cape Coral. FL 33991
UID:e.9117.493
SEQUENCE:3
DTSTAMP:20260420T222553Z
URL:http://cccia-dev.memberzone.com/events/details/september-general-membership-dinner-meeting-09-10-2015-493
END:VEVENT

END:VCALENDAR
