BEGIN:VCALENDAR
VERSION:2.0
PRODID:-//ChamberMaster//Event Calendar 2.0//EN
METHOD:PUBLISH
X-PUBLISHED-TTL:P3D
REFRESH-INTERVAL:P3D
CALSCALE:GREGORIAN
BEGIN:VEVENT
DTSTART:20160908T213000Z
DTEND:20160909T000000Z
X-MICROSOFT-CDO-ALLDAYEVENT:FALSE
SUMMARY:September General Membership Dinner Meeting
DESCRIPTION:CCCIA September General Membership Dinner Meeting     \n\nTopic: Caloosahatchee Watershed Regional Water Management Issues   \n\nPanelists: Mayor Marni Retzer - City of Cape Coral \n\n                  Mayor Kevin Ruane - City of Sanibel   \n\n                  James Evans - Natural Resources Director - Sanibel\n\n                  Jennifer Hecker - Director of Natural Resources Policy\,\n\n                                                Conservancy of SWFL\n\n \n\nDinner Sponsor: Markham\, Norton\, Mosteller & Wright Co.
X-ALT-DESC;FMTTYPE=text/html:<em style="line-height: 20.8px\; font-size: 14px\;"><strong><span style="line-height: 20.8px\;">CCCIA&nbsp\;September&nbsp\;General Membership Dinner Meeting&nbsp\;&nbsp\; &nbsp\;&nbsp\;</span></strong></em><br style="line-height: 20.8px\; font-size: 14px\;" />\n<em style="line-height: 20.8px\; font-size: 14px\;"><strong style="line-height: 20.8px\;">Topic: Caloosahatchee&nbsp\;Watershed Regional Water Management Issues &nbsp\;&nbsp\;<br />\nPanelists: Mayor Marni Retzer - City of Cape Coral&nbsp\;<br />\n&nbsp\; &nbsp\; &nbsp\; &nbsp\; &nbsp\; &nbsp\; &nbsp\; &nbsp\; &nbsp\; Mayor Kevin Ruane - City of Sanibel&nbsp\;&nbsp\;&nbsp\;</strong></em><br style="line-height: 20.8px\;" />\n<span style="font-size: 14px\;">&nbsp\; &nbsp\; &nbsp\; &nbsp\; &nbsp\; &nbsp\; &nbsp\; &nbsp\;&nbsp\;<b><i>&nbsp\; James Evans - Natural Resources Director - Sanibel<br />\n&nbsp\; &nbsp\; &nbsp\; &nbsp\; &nbsp\; &nbsp\; &nbsp\; &nbsp\; &nbsp\; Jennifer Hecker&nbsp\;- Director of Natural Resources Policy\,</i></b><br />\n&nbsp\; &nbsp\; &nbsp\; &nbsp\; &nbsp\; &nbsp\;&nbsp\;<span style="font-family: arial\;"><em><strong>&nbsp\; &nbsp\; &nbsp\; &nbsp\; &nbsp\; &nbsp\; &nbsp\; &nbsp\; &nbsp\; &nbsp\; &nbsp\; &nbsp\; &nbsp\; &nbsp\; &nbsp\; &nbsp\; &nbsp\; &nbsp\; Conservancy of SWFL<br />\n&nbsp\;</strong></em></span></span><br style="line-height: 20.8px\;" />\n<em style="line-height: 20.8px\; font-size: 14px\;"><strong style="line-height: 20.8px\;">Dinner Sponsor: Markham\, Norton\, Mosteller&nbsp\;&amp\; Wright Co.&nbsp\;</strong></em>
LOCATION:Palmetto Pines Country Club 1940 SW 9th Court Cape Coral. FL 33991
UID:e.9117.514
SEQUENCE:3
DTSTAMP:20260419T215806Z
URL:http://cccia-dev.memberzone.com/events/details/september-general-membership-dinner-meeting-09-08-2016-514
END:VEVENT

END:VCALENDAR
