BEGIN:VCALENDAR
VERSION:2.0
PRODID:-//ChamberMaster//Event Calendar 2.0//EN
METHOD:PUBLISH
X-PUBLISHED-TTL:P3D
REFRESH-INTERVAL:P3D
CALSCALE:GREGORIAN
BEGIN:VEVENT
DTSTART;VALUE=DATE:20121013
DTEND;VALUE=DATE:20121014
TRANSP:TRANSPARENT
X-MICROSOFT-CDO-ALLDAYEVENT:TRUE
SUMMARY:October 2012 Fall Classic Golf
DESCRIPTION:
X-ALT-DESC;FMTTYPE=text/html:
LOCATION:Coral Oaks Golf Club
UID:e.9117.119
SEQUENCE:3
DTSTAMP:20260423T111808Z
URL:http://cccia-dev.memberzone.com/events/details/october-2012-fall-classic-golf-10-13-2012-119
END:VEVENT

END:VCALENDAR
