BEGIN:VCALENDAR
VERSION:2.0
PRODID:-//ChamberMaster//Event Calendar 2.0//EN
METHOD:PUBLISH
X-PUBLISHED-TTL:P3D
REFRESH-INTERVAL:P3D
CALSCALE:GREGORIAN
BEGIN:VEVENT
DTSTART:20150212T223000Z
DTEND:20150213T010000Z
X-MICROSOFT-CDO-ALLDAYEVENT:FALSE
SUMMARY:Members Dinner Meeting
DESCRIPTION:** SOLD OUT **\n\nFebruary Dinner Meeting    \n\nConstruction Crime/Unlicensed Contractors \n\nStaff Officer Darryl Aubuchon\, Lee County Sheriff Department\n\nOfficer Gerald Moll\, Cape Coral Police Department\n\nPaul Gates\, City of Cape Coral Code enforcement
X-ALT-DESC;FMTTYPE=text/html:** SOLD OUT **<br />\nFebruary Dinner Meeting&nbsp\;&nbsp\;&nbsp\;&nbsp\;<br />\n<strong>Construction Crime/Unlicensed Contractors</strong>&nbsp\;<br />\nStaff Officer&nbsp\;Darryl&nbsp\;Aubuchon\, Lee County Sheriff Department<br />\nOfficer Gerald Moll\, Cape Coral Police Department<br />\nPaul Gates\, City of Cape Coral Code enforcement<br />\n&nbsp\;
LOCATION:Palmetto Pines Country Club 1940 SW 9th Court Cape Coral. FL 33991
UID:e.9117.485
SEQUENCE:3
DTSTAMP:20260421T082057Z
URL:http://cccia-dev.memberzone.com/events/details/members-dinner-meeting-02-12-2015-485
END:VEVENT

END:VCALENDAR
