BEGIN:VCALENDAR
VERSION:2.0
PRODID:-//ChamberMaster//Event Calendar 2.0//EN
METHOD:PUBLISH
X-PUBLISHED-TTL:P3D
REFRESH-INTERVAL:P3D
CALSCALE:GREGORIAN
BEGIN:VEVENT
DTSTART:20150514T213000Z
DTEND:20150514T234500Z
X-MICROSOFT-CDO-ALLDAYEVENT:FALSE
SUMMARY:May Dinner Meeting
DESCRIPTION:*** SOLD OUT *** \n\nCCCIA May Dinner Meeting    \n\nTopic: Building Code 101 \n\nSpeaker: Paul Dickson\, Building Official\, City of Cape Coral \n\n                 \n\nDinner Sponsor: ACRA Electric- 40th Anniversary
X-ALT-DESC;FMTTYPE=text/html:<em style="line-height: 20.7999992370605px\;"><strong><span style="line-height: 20.7999992370605px\;">*** SOLD OUT ***&#8203\;<br />\nCCCIA&nbsp\;May Dinner Meeting&nbsp\;&nbsp\;&nbsp\;&nbsp\;</span></strong></em><br style="line-height: 20.7999992370605px\;" />\n<strong style="line-height: 20.7999992370605px\;">Topic: Building Code 101&nbsp\;</strong><br style="line-height: 20.7999992370605px\;" />\n<strong style="line-height: 20.7999992370605px\;">Speaker: Paul Dickson\, Building Official\, City of Cape Coral&nbsp\;</strong><br style="line-height: 20.7999992370605px\;" />\n<span style="line-height: 20.7999992370605px\;">&nbsp\;&nbsp\; &nbsp\; &nbsp\; &nbsp\; &nbsp\; &nbsp\; &nbsp\; &nbsp\;</span><strong style="line-height: 20.7999992370605px\;">&nbsp\;</strong><br style="line-height: 20.7999992370605px\;" />\n<strong style="line-height: 20.7999992370605px\;">Dinner Sponsor:</strong><span style="line-height: 20.7999992370605px\;">&nbsp\;</span><u><em><strong>ACRA&nbsp\;Electric-&nbsp\;40th Anniversary&nbsp\;</strong></em></u>&nbsp\;&nbsp\;
LOCATION:Palmetto Pines Country Club 1940 SW 9th Court Cape Coral. FL 33991
UID:e.9117.488
SEQUENCE:3
DTSTAMP:20260421T013705Z
URL:http://cccia-dev.memberzone.com/events/details/may-dinner-meeting-05-14-2015-488
END:VEVENT

END:VCALENDAR
