BEGIN:VCALENDAR
VERSION:2.0
PRODID:-//ChamberMaster//Event Calendar 2.0//EN
METHOD:PUBLISH
X-PUBLISHED-TTL:P3D
REFRESH-INTERVAL:P3D
CALSCALE:GREGORIAN
BEGIN:VEVENT
DTSTART:20140924T151500Z
DTEND:20140924T173000Z
X-MICROSOFT-CDO-ALLDAYEVENT:FALSE
SUMMARY:Marketing Seminar Series - Part 3
DESCRIPTION:CCCIA Marketing Seminar Series - Part 3\n\nSpeaker: Arthur Printing\n\n"What's Trending in Print and Direct Mail"\n\n\n\n      ** POSTPONED TBD ***
X-ALT-DESC;FMTTYPE=text/html:CCCIA Marketing Seminar&nbsp\;Series - Part&nbsp\;3<br />\nSpeaker:&nbsp\;Arthur Printing<br />\n&quot\;What&#39\;s Trending in Print and Direct Mail&quot\;<br />\n<br />\n&nbsp\;<span style="line-height: 20.7999992370605px\;">&nbsp\;&nbsp\; &nbsp\;</span><span style="font-size: 22px\;"><em><u><strong>&nbsp\;** POSTPONED TBD ***</strong></u></em></span>
LOCATION:
UID:e.9117.482
SEQUENCE:3
DTSTAMP:20260421T172733Z
URL:http://cccia-dev.memberzone.com/events/details/marketing-seminar-series-part-3-09-24-2014-482
END:VEVENT

END:VCALENDAR
