BEGIN:VCALENDAR
VERSION:2.0
PRODID:-//ChamberMaster//Event Calendar 2.0//EN
METHOD:PUBLISH
X-PUBLISHED-TTL:P3D
REFRESH-INTERVAL:P3D
CALSCALE:GREGORIAN
BEGIN:VEVENT
DTSTART:20140903T151500Z
DTEND:20140903T173000Z
X-MICROSOFT-CDO-ALLDAYEVENT:FALSE
SUMMARY:Marketing Seminar Series - Part 2
DESCRIPTION:CCCIA Marketing Seminar Series - Part 2\n\nSpeaker: The News-Press\n\n"Marketing\, Budgeting\, and Scheduling: When to Plan"
X-ALT-DESC;FMTTYPE=text/html:CCCIA Marketing Seminar&nbsp\;Series - Part&nbsp\;2<br />\nSpeaker:&nbsp\;The News-Press<br />\n&quot\;Marketing\, Budgeting\, and Scheduling: When to Plan&quot\;<br />\n&nbsp\;
LOCATION:Gulf Coast Village Auditorium 1333 Santa Barbara Boulevard Cape Coral\, FL 33991
UID:e.9117.481
SEQUENCE:3
DTSTAMP:20260421T172647Z
URL:http://cccia-dev.memberzone.com/events/details/marketing-seminar-series-part-2-09-03-2014-481
END:VEVENT

END:VCALENDAR
