BEGIN:VCALENDAR
VERSION:2.0
PRODID:-//ChamberMaster//Event Calendar 2.0//EN
METHOD:PUBLISH
X-PUBLISHED-TTL:P3D
REFRESH-INTERVAL:P3D
CALSCALE:GREGORIAN
BEGIN:VEVENT
DTSTART:20150312T213000Z
DTEND:20150312T234500Z
X-MICROSOFT-CDO-ALLDAYEVENT:FALSE
SUMMARY:March General Membership Dinner Meeting
DESCRIPTION:*** Dinner Meeting SOLD OUT! ***\n\n CCCIA March Dinner Meeting    \n\nTopic: Marketing & Technology \n\nSpeakers: Matt Connar from Boost Creative\n\n                Brett Bisbe from B2 Technology Solutions \n\nDinner Sponsor:
X-ALT-DESC;FMTTYPE=text/html:<em><strong><span style="line-height: 20.7999992370605px\;">*** Dinner Meeting SOLD OUT! ***<br />\n&#8203\;CCCIA March Dinner Meeting&nbsp\;&nbsp\;&nbsp\;&nbsp\;</span></strong></em><br style="line-height: 20.7999992370605px\;" />\n<strong>Topic: Marketing &amp\; Technology&nbsp\;</strong><br />\n<strong>Speakers: Matt Connar from Boost Creative</strong><br />\n&nbsp\;&nbsp\; &nbsp\; &nbsp\; &nbsp\; &nbsp\; &nbsp\; &nbsp\; &nbsp\;<strong>Brett Bisbe&nbsp\;from B2 Technology Solutions&nbsp\;</strong><br />\n<strong>Dinner Sponsor:</strong>&nbsp\;
LOCATION:Palmetto Pines Country Club 1940 SW 9th Court Cape Coral. FL 33991
UID:e.9117.486
SEQUENCE:3
DTSTAMP:20260421T050556Z
URL:http://cccia-dev.memberzone.com/events/details/march-general-membership-dinner-meeting-03-12-2015-486
END:VEVENT

END:VCALENDAR
