BEGIN:VCALENDAR
VERSION:2.0
PRODID:-//ChamberMaster//Event Calendar 2.0//EN
METHOD:PUBLISH
X-PUBLISHED-TTL:P3D
REFRESH-INTERVAL:P3D
CALSCALE:GREGORIAN
BEGIN:VEVENT
DTSTART;VALUE=DATE:20120315
DTEND;VALUE=DATE:20120316
TRANSP:TRANSPARENT
X-MICROSOFT-CDO-ALLDAYEVENT:TRUE
SUMMARY:March 2012 Technology Lunch
DESCRIPTION:
X-ALT-DESC;FMTTYPE=text/html:
LOCATION:CCCIA Office
UID:e.9117.94
SEQUENCE:3
DTSTAMP:20260424T035516Z
URL:http://cccia-dev.memberzone.com/events/details/march-2012-technology-lunch-03-15-2012-94
END:VEVENT

END:VCALENDAR
