BEGIN:VCALENDAR
VERSION:2.0
PRODID:-//ChamberMaster//Event Calendar 2.0//EN
METHOD:PUBLISH
X-PUBLISHED-TTL:P3D
REFRESH-INTERVAL:P3D
CALSCALE:GREGORIAN
BEGIN:VEVENT
DTSTART;VALUE=DATE:20131019
DTEND;VALUE=DATE:20131020
TRANSP:TRANSPARENT
X-MICROSOFT-CDO-ALLDAYEVENT:TRUE
SUMMARY:Lutgert Fall Shootout 10.19.13
DESCRIPTION:The Lutgert Insurance $10\,000\,000 Fall Shootout Golf Tournament
X-ALT-DESC;FMTTYPE=text/html:The Lutgert Insurance $10\,000\,000 Fall Shootout Golf Tournament&nbsp\;&nbsp\;&nbsp\;
LOCATION:Palmetto-Pine Country Club 1940 SW 9th Street Cape Coral\, FL
UID:e.9117.171
SEQUENCE:3
DTSTAMP:20260422T184513Z
URL:http://cccia-dev.memberzone.com/events/details/lutgert-fall-shootout-10-19-13-10-19-2013-171
END:VEVENT

END:VCALENDAR
