BEGIN:VCALENDAR
VERSION:2.0
PRODID:-//ChamberMaster//Event Calendar 2.0//EN
METHOD:PUBLISH
X-PUBLISHED-TTL:P3D
REFRESH-INTERVAL:P3D
CALSCALE:GREGORIAN
BEGIN:VEVENT
DTSTART:20140423T153000Z
DTEND:20140423T170000Z
X-MICROSOFT-CDO-ALLDAYEVENT:FALSE
SUMMARY:Lunch n Learn 4.23.14
DESCRIPTION:Lunch n Learn (please BYOBBL---Bring Your Own Brown Bag Lunch)\n\n\n\nLearn how to market your business through our website.
X-ALT-DESC;FMTTYPE=text/html:Lunch n Learn (please BYOBBL---Bring Your Own Brown Bag Lunch)<br />\n<br />\nLearn how to market your business through our website.
LOCATION:CCCIA Office\, Conference Room 611 SE 11th Street\, Unit A\, Cape Coral\, FL 33990
UID:e.9117.474
SEQUENCE:3
DTSTAMP:20260422T034339Z
URL:http://cccia-dev.memberzone.com/events/details/lunch-n-learn-4-23-14-04-23-2014-474
END:VEVENT

END:VCALENDAR
