BEGIN:VCALENDAR
VERSION:2.0
PRODID:-//ChamberMaster//Event Calendar 2.0//EN
METHOD:PUBLISH
X-PUBLISHED-TTL:P3D
REFRESH-INTERVAL:P3D
CALSCALE:GREGORIAN
BEGIN:VEVENT
DTSTART:20160616T213000Z
DTEND:20160617T000000Z
X-MICROSOFT-CDO-ALLDAYEVENT:FALSE
SUMMARY:June General Membership Dinner Meeting
DESCRIPTION:CCCIA June General Membership Dinner Meeting     \n\nTopic:  DCD Update on LUDR Rewrite & Online Permitting    \n\n Speakers:  John Szerlag - City Manager  \n\n                    Vince Cautero - Director of Community Development   \n\n                     Paul Dickson - Building Official City of Cape Coral   \n\n\n\nNew CCCIA Website Reveal presented by Torchlite   \n\n\n\nDinner Sponsor: Still Available
X-ALT-DESC;FMTTYPE=text/html:<em style="line-height: 20.8px\; font-size: 14px\;"><strong><span style="line-height: 20.8px\;">CCCIA&nbsp\;June General Membership Dinner Meeting&nbsp\;&nbsp\; &nbsp\;&nbsp\;</span></strong></em><br style="line-height: 20.8px\; font-size: 14px\;" />\n<em style="line-height: 20.8px\; font-size: 14px\;"><strong style="line-height: 20.8px\;">Topic: &nbsp\;DCD Update on LUDR&nbsp\;Rewrite&nbsp\;&amp\; Online Permitting&nbsp\;&nbsp\; &nbsp\;<br />\n&nbsp\;Speakers:&nbsp\; John Szerlag - City Manager&nbsp\;&nbsp\;</strong></em><br style="line-height: 20.8px\;" />\n<span style="font-size: 14px\;">&nbsp\; &nbsp\; &nbsp\; &nbsp\; &nbsp\; &nbsp\; &nbsp\; &nbsp\; <b><i>&nbsp\; &nbsp\; Vince Cautero&nbsp\;- Director of Community Development&nbsp\;&nbsp\;&nbsp\;</i></b><br />\n&nbsp\; &nbsp\; &nbsp\; &nbsp\; &nbsp\; &nbsp\; &nbsp\; &nbsp\; &nbsp\; &nbsp\; <span style="font-family:arial\;"><em><strong>&nbsp\;Paul Dickson - Building Official City of Cape Coral &nbsp\;&nbsp\;</strong></em></span><br />\n<br />\n<em><strong>New&nbsp\;CCCIA&nbsp\;Website Reveal presented by Torchlite &nbsp\;&nbsp\;</strong></em></span><br style="line-height: 20.8px\;" />\n<br style="line-height: 20.8px\;" />\n<em style="line-height: 20.8px\; font-size: 14px\;"><strong style="line-height: 20.8px\;">Dinner Sponsor: Still Available&nbsp\;&nbsp\;</strong></em>
LOCATION:Palmetto Pines Country Club 1940 SW 9th Court Cape Coral. FL 33991
UID:e.9117.510
SEQUENCE:3
DTSTAMP:20260420T031538Z
URL:http://cccia-dev.memberzone.com/events/details/june-general-membership-dinner-meeting-06-16-2016-510
END:VEVENT

END:VCALENDAR
