BEGIN:VCALENDAR
VERSION:2.0
PRODID:-//ChamberMaster//Event Calendar 2.0//EN
METHOD:PUBLISH
X-PUBLISHED-TTL:P3D
REFRESH-INTERVAL:P3D
CALSCALE:GREGORIAN
BEGIN:VEVENT
DTSTART;VALUE=DATE:20120621
DTEND;VALUE=DATE:20120622
TRANSP:TRANSPARENT
X-MICROSOFT-CDO-ALLDAYEVENT:TRUE
SUMMARY:June 2012 Technology Lunch
DESCRIPTION:
X-ALT-DESC;FMTTYPE=text/html:
LOCATION:CCCIA Office
UID:e.9117.77
SEQUENCE:3
DTSTAMP:20260423T221049Z
URL:http://cccia-dev.memberzone.com/events/details/june-2012-technology-lunch-06-21-2012-77
END:VEVENT

END:VCALENDAR
