BEGIN:VCALENDAR
VERSION:2.0
PRODID:-//ChamberMaster//Event Calendar 2.0//EN
METHOD:PUBLISH
X-PUBLISHED-TTL:P3D
REFRESH-INTERVAL:P3D
CALSCALE:GREGORIAN
BEGIN:VEVENT
DTSTART:20140710T213000Z
DTEND:20140711T000000Z
X-MICROSOFT-CDO-ALLDAYEVENT:FALSE
SUMMARY:July Dinner Meeting 7.10.14
DESCRIPTION:Monthly General Membership Meeting & Dinner
X-ALT-DESC;FMTTYPE=text/html:Monthly General Membership Meeting &amp\; Dinner&nbsp\;&nbsp\;
LOCATION:Palmetto Pine Country Club 1940 SW 9th Court Cape Coral\, FL 33991
UID:e.9117.478
SEQUENCE:3
DTSTAMP:20260422T001726Z
URL:http://cccia-dev.memberzone.com/events/details/july-dinner-meeting-7-10-14-07-10-2014-478
END:VEVENT

END:VCALENDAR
