BEGIN:VCALENDAR
VERSION:2.0
PRODID:-//ChamberMaster//Event Calendar 2.0//EN
METHOD:PUBLISH
X-PUBLISHED-TTL:P3D
REFRESH-INTERVAL:P3D
CALSCALE:GREGORIAN
BEGIN:VEVENT
DTSTART:20150717T110000Z
DTEND:20150717T124500Z
X-MICROSOFT-CDO-ALLDAYEVENT:FALSE
SUMMARY:Joint Networking Breakfast w/ Council for Progress
DESCRIPTION:CCCIA & Council for Progress Joint Meeting     \n\nTopic: Legislative Update \n\nSpeaker: Representative Dane Eagle\n\n                             District 77
X-ALT-DESC;FMTTYPE=text/html:<strong><em style="line-height: 20.7999992370605px\;"><span style="line-height: 20.7999992370605px\;">CCCIA&nbsp\;&amp\; Council for Progress Joint Meeting &nbsp\; &nbsp\;&nbsp\;</span></em><br style="line-height: 20.7999992370605px\;" />\n<strong style="line-height: 20.7999992370605px\;">Topic: Legislative Update&nbsp\;</strong><br style="line-height: 20.7999992370605px\;" />\n<strong style="line-height: 20.7999992370605px\;">Speaker: Representative Dane Eagle<br />\n&nbsp\; &nbsp\; &nbsp\; &nbsp\; &nbsp\; &nbsp\; &nbsp\; &nbsp\; &nbsp\; &nbsp\; &nbsp\; &nbsp\; &nbsp\; &nbsp\; &nbsp\;District 77&nbsp\;</strong><br style="line-height: 20.7999992370605px\;" />\n<span style="line-height: 20.7999992370605px\;">&nbsp\;&nbsp\; &nbsp\; &nbsp\; &nbsp\; &nbsp\; &nbsp\; &nbsp\; &nbsp\;</span><strong style="line-height: 20.7999992370605px\;">&nbsp\;</strong></strong><br style="line-height: 20.7999992370605px\;" />\n&nbsp\;
LOCATION:Palmetto Pines Country Club 1940 SW 9th Court Cape Coral. FL 33991
UID:e.9117.491
SEQUENCE:3
DTSTAMP:20260420T220744Z
URL:http://cccia-dev.memberzone.com/events/details/joint-networking-breakfast-w-council-for-progress-07-17-2015-491
END:VEVENT

END:VCALENDAR
