BEGIN:VCALENDAR
VERSION:2.0
PRODID:-//ChamberMaster//Event Calendar 2.0//EN
METHOD:PUBLISH
X-PUBLISHED-TTL:P3D
REFRESH-INTERVAL:P3D
CALSCALE:GREGORIAN
BEGIN:VEVENT
DTSTART:20161121T223000Z
DTEND:20161122T003000Z
X-MICROSOFT-CDO-ALLDAYEVENT:FALSE
SUMMARY:Helping Hands for the Holidays
DESCRIPTION:Helping Hands For The Holidays is Team Aubuchon's signature event and fundraiser that benefits 3 local charities for children and families who are in need of assistance: The charities are Ronald McDonald House Charities SWFL\, LEE BIA Builders Care\, and Make-A-Wish SWFL. This one-night old-fashioned Christmas event includes donated food and refreshments from local restaurants\, such as Bubba's RoadHouse\, The LightHouse\, RumRunners\, and Fathoms. Heights Elementary school choir will perform\, along with a visit from Santa\, and the lighting of a Rockefeller-style Christmas tree in the lobby! Make plans to bring your family and share in this special evening. All proceeds benefit: Make-A-Wish Southern Florida\, Ronald McDonald House Charities SWFL\, and LEE BIA Builders Care. Monday\, November 21\, 5:30-7:30 pm. Donations can be made here: www.teamaubuchon.com or at the event.
X-ALT-DESC;FMTTYPE=text/html:Helping Hands For The Holidays is Team Aubuchon&#39\;s signature event and fundraiser that benefits 3 local charities for children and families who are in need of assistance: The charities are Ronald McDonald House Charities SWFL\, LEE BIA Builders Care\, and Make-A-Wish SWFL. This one-night old-fashioned Christmas event includes donated food and refreshments from local restaurants\, such as Bubba&rsquo\;s RoadHouse\, The LightHouse\, RumRunners\, and Fathoms. Heights Elementary school choir will perform\, along with a visit from Santa\, and the lighting of a Rockefeller-style Christmas tree in the lobby! Make plans to bring your family and share in this special evening. All proceeds benefit: Make-A-Wish Southern Florida\, Ronald McDonald House Charities SWFL\, and LEE BIA Builders Care. Monday\, November 21\, 5:30-7:30 pm. Donations can be made here: www.teamaubuchon.com or at the event.
LOCATION:Team Aubuchon Main Office\, 5:30-7:30 pm\, Monday\, November 21
UID:e.9117.522
SEQUENCE:3
DTSTAMP:20260419T131039Z
URL:http://cccia-dev.memberzone.com/events/details/helping-hands-for-the-holidays-522
END:VEVENT

END:VCALENDAR
