BEGIN:VCALENDAR
VERSION:2.0
PRODID:-//ChamberMaster//Event Calendar 2.0//EN
METHOD:PUBLISH
X-PUBLISHED-TTL:P3D
REFRESH-INTERVAL:P3D
CALSCALE:GREGORIAN
BEGIN:VEVENT
DTSTART:20140509T123000Z
DTEND:20140509T170000Z
X-MICROSOFT-CDO-ALLDAYEVENT:FALSE
SUMMARY:Hall of Fame Golf Tournament 5.9.14
DESCRIPTION:Shotgun Start\n\nAwards Luncheon
X-ALT-DESC;FMTTYPE=text/html:Shotgun Start<br />\nAwards Luncheon
LOCATION:Palmetto Pine Country Club
UID:e.9117.460
SEQUENCE:3
DTSTAMP:20260422T041402Z
URL:http://cccia-dev.memberzone.com/events/details/hall-of-fame-golf-tournament-5-9-14-05-09-2014-460
END:VEVENT

END:VCALENDAR
