BEGIN:VCALENDAR
VERSION:2.0
PRODID:-//ChamberMaster//Event Calendar 2.0//EN
METHOD:PUBLISH
X-PUBLISHED-TTL:P3D
REFRESH-INTERVAL:P3D
CALSCALE:GREGORIAN
BEGIN:VEVENT
DTSTART:20161103T213000Z
DTEND:20161104T010000Z
X-MICROSOFT-CDO-ALLDAYEVENT:FALSE
SUMMARY:Dixie Roadhouse Presents: The CCCIA 2nd Annual Contractors Showcase
DESCRIPTION:Dixie Roadhouse Presents:\n\nThe CCCIA 2nd Annual\n\nContractors Showcase
X-ALT-DESC;FMTTYPE=text/html:<strong><em style="line-height: 20.8px\; font-size: 14px\;">Dixie Roadhouse Presents:<br style="line-height: 20.8px\;" />\nThe&nbsp\;CCCIA&nbsp\;2nd Annual<br />\nContractors Showcase &nbsp\;</em></strong>
LOCATION:Dixie Roadhouse 1023 SE 47th Terrace Cape Coral. FL 33904
UID:e.9117.520
SEQUENCE:3
DTSTAMP:20260419T170418Z
URL:http://cccia-dev.memberzone.com/events/details/dixie-roadhouse-presents-the-cccia-2nd-annual-contractors-showcase-520
END:VEVENT

END:VCALENDAR
