BEGIN:VCALENDAR
VERSION:2.0
PRODID:-//ChamberMaster//Event Calendar 2.0//EN
METHOD:PUBLISH
X-PUBLISHED-TTL:P3D
REFRESH-INTERVAL:P3D
CALSCALE:GREGORIAN
BEGIN:VEVENT
DTSTART:20150924T213000Z
DTEND:20150925T020000Z
X-MICROSOFT-CDO-ALLDAYEVENT:FALSE
SUMMARY:Dixie Roadhouse presents CCCIA Contractors Showcase
DESCRIPTION:Dixie Roadhouse presents:\n\nThe CCCIA 1st Annual\n\nContractors Showcase
X-ALT-DESC;FMTTYPE=text/html:<strong><em style="line-height: 20.7999992370605px\; font-size: 14px\;">Dixie Roadhouse presents:<br style="line-height: 20.7999992370605px\;" />\nThe CCCIA 1st Annual<br />\nContractors Showcase&nbsp\;&nbsp\;</em></strong><br style="line-height: 20.7999992370605px\;" />\n&nbsp\;
LOCATION:Dixie Roadhouse 1023 SE 47th Terrace Cape Coral. FL 33904
UID:e.9117.494
SEQUENCE:3
DTSTAMP:20260420T222854Z
URL:http://cccia-dev.memberzone.com/events/details/dixie-roadhouse-presents-cccia-contractors-showcase-09-24-2015-494
END:VEVENT

END:VCALENDAR
