BEGIN:VCALENDAR
VERSION:2.0
PRODID:-//ChamberMaster//Event Calendar 2.0//EN
METHOD:PUBLISH
X-PUBLISHED-TTL:P3D
REFRESH-INTERVAL:P3D
CALSCALE:GREGORIAN
BEGIN:VEVENT
DTSTART:20140911T213000Z
DTEND:20140912T000000Z
X-MICROSOFT-CDO-ALLDAYEVENT:FALSE
SUMMARY:Dinner Meeting Sept.2014
DESCRIPTION:Monthly General Membership Meeting & Dinner
X-ALT-DESC;FMTTYPE=text/html:Monthly General Membership Meeting &amp\; Dinner
LOCATION:Palmetto Pine Country Club
UID:e.9117.224
SEQUENCE:3
DTSTAMP:20260421T171706Z
URL:http://cccia-dev.memberzone.com/events/details/dinner-meeting-sept-2014-09-11-2014-224
END:VEVENT

END:VCALENDAR
