BEGIN:VCALENDAR
VERSION:2.0
PRODID:-//ChamberMaster//Event Calendar 2.0//EN
METHOD:PUBLISH
X-PUBLISHED-TTL:P3D
REFRESH-INTERVAL:P3D
CALSCALE:GREGORIAN
BEGIN:VEVENT
DTSTART:20141113T223000Z
DTEND:20141114T010000Z
X-MICROSOFT-CDO-ALLDAYEVENT:FALSE
SUMMARY:Dinner Meeting Nov. 2014 ***SOLD OUT***
DESCRIPTION:Monthly General Membership Meeting\n\nRegionalism with Panelists\n\nCape Coral Mayor Marni Sawicki\n\n County Commissioner Dist. 3 Larry Kiker\n\n Cape Coral City Manager John Szerlag\n\nLee County Manager Roger Desjarlais\n\n Lee County Attorney Richard Wesch
X-ALT-DESC;FMTTYPE=text/html:Monthly General Membership Meeting<br />\nRegionalism with Panelists<br />\nCape Coral Mayor Marni Sawicki<br />\n&#8203\;County Commissioner Dist. 3 Larry Kiker<br />\n&#8203\;Cape Coral City Manager John Szerlag<br />\nLee County Manager Roger Desjarlais<br />\n&#8203\;Lee County Attorney Richard Wesch<br />\n<br />\n&nbsp\;
LOCATION:Palmetto Pine Country Club 1940 SW 9th Court Cape Coral\, FL 33991
UID:e.9117.231
SEQUENCE:3
DTSTAMP:20260421T124402Z
URL:http://cccia-dev.memberzone.com/events/details/dinner-meeting-nov-2014-sold-out-11-13-2014-231
END:VEVENT

END:VCALENDAR
