BEGIN:VCALENDAR
VERSION:2.0
PRODID:-//ChamberMaster//Event Calendar 2.0//EN
METHOD:PUBLISH
X-PUBLISHED-TTL:P3D
REFRESH-INTERVAL:P3D
CALSCALE:GREGORIAN
BEGIN:VEVENT
DTSTART:20140814T213000Z
DTEND:20140815T000000Z
X-MICROSOFT-CDO-ALLDAYEVENT:FALSE
SUMMARY:Dinner Meeting 8.14.14
DESCRIPTION:General Membership Meeting & Dinner\n\n"CCCIA Candidate Forum"
X-ALT-DESC;FMTTYPE=text/html:General Membership Meeting &amp\; Dinner<br />\n&quot\;CCCIA Candidate Forum&quot\;
LOCATION:Palmetto Pine Country Club 1940 SW 9th Court Cape Coral\, FL 33991
UID:e.9117.222
SEQUENCE:3
DTSTAMP:20260422T002737Z
URL:http://cccia-dev.memberzone.com/events/details/dinner-meeting-8-14-14-08-14-2014-222
END:VEVENT

END:VCALENDAR
