BEGIN:VCALENDAR
VERSION:2.0
PRODID:-//ChamberMaster//Event Calendar 2.0//EN
METHOD:PUBLISH
X-PUBLISHED-TTL:P3D
REFRESH-INTERVAL:P3D
CALSCALE:GREGORIAN
BEGIN:VEVENT
DTSTART:20140508T213000Z
DTEND:20140509T000000Z
X-MICROSOFT-CDO-ALLDAYEVENT:FALSE
SUMMARY:Dinner Meeting 5.8.14
DESCRIPTION:Monthly General Membership Meeting & Dinner\n\n\n\nJoin Us for a Panel Discussion with:\n\nRana Erbrick\, Chair\, CRA Board\n\nEd Ramos\, Chair\, South Cape Community Redevelopment Advisory Board\n\nDana Brunett\, Cape Coral Economic Development Director
X-ALT-DESC;FMTTYPE=text/html:Monthly General Membership Meeting &amp\; Dinner<br />\n<br />\n<span style="font-size: 12px\;"><span style="font-size: 14px\;"><span style="font-family: times new roman\;">Join Us for a Panel Discussion with:</span></span><br />\n<span style="font-family: arial\;"><span style="font-size: 14px\;"><span style="font-family: times new roman\;"><span style="font-weight: bold\; language: en-US\;"><span style="color: black\;">Rana Erbrick\, Chair\, CRA Board</span></span><br />\n<span style="font-weight: bold\; language: en-US\;"><span style="color: black\;">Ed Ramos\, Chair\, South Cape Community Redevelopment Advisory Board</span></span><br />\n<span style="font-weight: bold\; language: en-US\;"><span style="color: black\;">Dana Brunett\, Cape Coral Economic Development Director</span></span></span></span><br />\n&nbsp\;</span></span><br />\n&nbsp\;
LOCATION:Palmetto Pine Country Club 1940 SW 9th Court Cape Coral\, FL 33991
UID:e.9117.214
SEQUENCE:3
DTSTAMP:20260422T023143Z
URL:http://cccia-dev.memberzone.com/events/details/dinner-meeting-5-8-14-05-08-2014-214
END:VEVENT

END:VCALENDAR
