BEGIN:VCALENDAR
VERSION:2.0
PRODID:-//ChamberMaster//Event Calendar 2.0//EN
METHOD:PUBLISH
X-PUBLISHED-TTL:P3D
REFRESH-INTERVAL:P3D
CALSCALE:GREGORIAN
BEGIN:VEVENT
DTSTART:20140410T213000Z
DTEND:20140411T000000Z
X-MICROSOFT-CDO-ALLDAYEVENT:FALSE
SUMMARY:Dinner Meeting 4.10.14
DESCRIPTION:General Membership Meeting & Dinner\n\n"Crime...it's on the jobsite and sometimes\, in your office. Learn the ways to spot the crooks amongst us! And\, when you do...Who ya' gonna call?"
X-ALT-DESC;FMTTYPE=text/html:General Membership Meeting &amp\; Dinner<br />\n&quot\;Crime...it&#39\;s on the jobsite and sometimes\, in your office. Learn the ways to spot the crooks amongst us! And\, when you do...Who ya&#39\; gonna call?&quot\;
LOCATION:Palmetto Pine Country Club 1940 SW 9th Court\, Cape Coral\, FL 33991
UID:e.9117.203
SEQUENCE:3
DTSTAMP:20260422T034501Z
URL:http://cccia-dev.memberzone.com/events/details/dinner-meeting-4-10-14-04-10-2014-203
END:VEVENT

END:VCALENDAR
