BEGIN:VCALENDAR
VERSION:2.0
PRODID:-//ChamberMaster//Event Calendar 2.0//EN
METHOD:PUBLISH
X-PUBLISHED-TTL:P3D
REFRESH-INTERVAL:P3D
CALSCALE:GREGORIAN
BEGIN:VEVENT
DTSTART:20140313T213000Z
DTEND:20140314T000000Z
X-MICROSOFT-CDO-ALLDAYEVENT:FALSE
SUMMARY:Dinner Meeting 3.13.14
DESCRIPTION:General Membership Dinner Meeting\n\n"Business is Picking Up...Are You Staffed & Ready?"
X-ALT-DESC;FMTTYPE=text/html:General Membership Dinner Meeting<br />\n&quot\;Business is Picking Up...Are You Staffed &amp\; Ready?&quot\;<br />\n&nbsp\;
LOCATION:Palmetto-Pine Country Club 1940 SW 9th Court Cape Coral\, FL 33991
UID:e.9117.194
SEQUENCE:3
DTSTAMP:20260422T053545Z
URL:http://cccia-dev.memberzone.com/events/details/dinner-meeting-3-13-14-03-13-2014-194
END:VEVENT

END:VCALENDAR
