BEGIN:VCALENDAR
VERSION:2.0
PRODID:-//ChamberMaster//Event Calendar 2.0//EN
METHOD:PUBLISH
X-PUBLISHED-TTL:P3D
REFRESH-INTERVAL:P3D
CALSCALE:GREGORIAN
BEGIN:VEVENT
DTSTART:20131114T223000Z
DTEND:20131115T010000Z
X-MICROSOFT-CDO-ALLDAYEVENT:FALSE
SUMMARY:Dinner Meeting 11.14.13
DESCRIPTION:
X-ALT-DESC;FMTTYPE=text/html:
LOCATION:The Westin at Marina Village 5951 Silver King Blvd. Cape Coral\, FL
UID:e.9117.173
SEQUENCE:3
DTSTAMP:20260422T140237Z
URL:http://cccia-dev.memberzone.com/events/details/dinner-meeting-11-14-13-11-14-2013-173
END:VEVENT

END:VCALENDAR
