BEGIN:VCALENDAR
VERSION:2.0
PRODID:-//ChamberMaster//Event Calendar 2.0//EN
METHOD:PUBLISH
X-PUBLISHED-TTL:P3D
REFRESH-INTERVAL:P3D
CALSCALE:GREGORIAN
BEGIN:VEVENT
DTSTART:20140424T213000Z
DTEND:20140424T230000Z
X-MICROSOFT-CDO-ALLDAYEVENT:FALSE
SUMMARY:CCCIA vs CCAR (Cape Coral Assoc. of Realtors) Mixer
DESCRIPTION:Join the CCCIA and CCAR (Cape Coral Association of Realtors) for a joint mixer. The group who has the most people in attendance will receive a donation to the charity of their choice (CCCIA is playing for Relay for Life).\n\n\n\nDeclare CCCIA at the door!
X-ALT-DESC;FMTTYPE=text/html:Join the CCCIA and CCAR (Cape Coral Association of Realtors) for a joint mixer. The group who has the most people in attendance will receive a donation to the charity of their choice (CCCIA is playing for Relay for Life).<br />\n<br />\nDeclare CCCIA at the door!
LOCATION:Dixie Roadhouse 1023 SE 47th Terrace Downtown Cape Coral\, FL
UID:e.9117.473
SEQUENCE:3
DTSTAMP:20260422T034621Z
URL:http://cccia-dev.memberzone.com/events/details/cccia-vs-ccar-cape-coral-assoc-of-realtors-mixer-04-24-2014-473
END:VEVENT

END:VCALENDAR
