BEGIN:VCALENDAR
VERSION:2.0
PRODID:-//ChamberMaster//Event Calendar 2.0//EN
METHOD:PUBLISH
X-PUBLISHED-TTL:P3D
REFRESH-INTERVAL:P3D
CALSCALE:GREGORIAN
BEGIN:VEVENT
DTSTART:20160310T223000Z
DTEND:20160311T010000Z
X-MICROSOFT-CDO-ALLDAYEVENT:FALSE
SUMMARY:CCCIA March 2016 General Membership Meeting
DESCRIPTION:CCCIA March 2016 General Membership Dinner Meeting    \n\nTopic:  Construction Crime \n\nSpeaker: Sheriff Mike Scott     \n\n\n\nDinner Sponsor:
X-ALT-DESC;FMTTYPE=text/html:<span style="font-size: 14px\;"><em style="line-height: 20.8px\;"><strong><span style="line-height: 20.8px\;">CCCIA&nbsp\;March 2016 General Membership Dinner Meeting&nbsp\;&nbsp\;&nbsp\;&nbsp\;</span></strong></em><br style="line-height: 20.8px\;" />\n<em style="line-height: 20.8px\;"><strong style="line-height: 20.8px\;">Topic: &nbsp\;Construction Crime&nbsp\;<br />\nSpeaker: Sheriff&nbsp\;Mike Scott &nbsp\; &nbsp\;&nbsp\;</strong></em></span><br style="line-height: 20.8px\;" />\n<br style="line-height: 20.8px\; font-size: 12px\;" />\n<em style="line-height: 20.8px\; font-size: 12px\;"><span style="font-size: 14px\;"><strong style="line-height: 20.8px\;">Dinner Sponsor:&nbsp\;</strong></span></em>
LOCATION:Palmetto Pines Country Club 1940 SW 9th Court Cape Coral. FL 33991
UID:e.9117.504
SEQUENCE:3
DTSTAMP:20260420T083053Z
URL:http://cccia-dev.memberzone.com/events/details/cccia-march-2016-general-membership-meeting-03-10-2016-504
END:VEVENT

END:VCALENDAR
