BEGIN:VCALENDAR
VERSION:2.0
PRODID:-//ChamberMaster//Event Calendar 2.0//EN
METHOD:PUBLISH
X-PUBLISHED-TTL:P3D
REFRESH-INTERVAL:P3D
CALSCALE:GREGORIAN
BEGIN:VEVENT
DTSTART:20130912T213000Z
DTEND:20130913T003000Z
X-MICROSOFT-CDO-ALLDAYEVENT:FALSE
SUMMARY:CCCIA Dinner Meeting
DESCRIPTION:Annual Contractors' Roundtable and Trade Show Dinner Meeting\n\n5:30  Trade Show\n\n6:30 Dinner\n\n7:00 Presentation\n\n\n\n\n\nFor more information\, click here
X-ALT-DESC;FMTTYPE=text/html:Annual Contractors&#39\; Roundtable and Trade Show Dinner Meeting<br />\n5:30&nbsp\; Trade Show<br />\n6:30 Dinner<br />\n7:00 Presentation<br />\n<br />\n<br />\n<span style="font-size: 14px\;"><strong>For more information\, <a href="http://cloud.chambermaster.com/userfiles/UserFiles/chambers/9117/File/2013DinnerMeetingFlyer.pdf">click here</a></strong></span>
LOCATION:The Westin Resort at Marina Village Rosen Ballroom
UID:e.9117.141
SEQUENCE:3
DTSTAMP:20260422T184453Z
URL:http://cccia-dev.memberzone.com/events/details/cccia-dinner-meeting-09-12-2013-141
END:VEVENT

END:VCALENDAR
