BEGIN:VCALENDAR
VERSION:2.0
PRODID:-//ChamberMaster//Event Calendar 2.0//EN
METHOD:PUBLISH
X-PUBLISHED-TTL:P3D
REFRESH-INTERVAL:P3D
CALSCALE:GREGORIAN
BEGIN:VEVENT
DTSTART:20140201T150000Z
DTEND:20140201T220000Z
X-MICROSOFT-CDO-ALLDAYEVENT:FALSE
SUMMARY:CCCIA Builders' Showcase of Homes
DESCRIPTION:A Showcase tour of Cape Coral's finest model homes.
X-ALT-DESC;FMTTYPE=text/html:A Showcase tour of Cape Coral&#39\;s finest model homes.
LOCATION:Various model homes throughout Cape Coral
UID:e.9117.187
SEQUENCE:3
DTSTAMP:20260422T074107Z
URL:http://cccia-dev.memberzone.com/events/details/cccia-builders-showcase-of-homes-02-01-2014-187
END:VEVENT

END:VCALENDAR
