BEGIN:VCALENDAR
VERSION:2.0
PRODID:-//ChamberMaster//Event Calendar 2.0//EN
METHOD:PUBLISH
X-PUBLISHED-TTL:P3D
REFRESH-INTERVAL:P3D
CALSCALE:GREGORIAN
BEGIN:VEVENT
DTSTART:20140125T150000Z
DTEND:20140125T220000Z
X-MICROSOFT-CDO-ALLDAYEVENT:FALSE
SUMMARY:CCCIA Builders' Showcase of Homes
DESCRIPTION:A Showcase Tour of Cape Coral's finest model homes.
X-ALT-DESC;FMTTYPE=text/html:A Showcase Tour of Cape Coral&#39\;s finest model homes.
LOCATION:Various Model homes throughout Cape Coral
UID:e.9117.183
SEQUENCE:3
DTSTAMP:20260422T105615Z
URL:http://cccia-dev.memberzone.com/events/details/cccia-builders-showcase-of-homes-01-25-2014-183
END:VEVENT

END:VCALENDAR
