BEGIN:VCALENDAR
VERSION:2.0
PRODID:-//ChamberMaster//Event Calendar 2.0//EN
METHOD:PUBLISH
X-PUBLISHED-TTL:P3D
REFRESH-INTERVAL:P3D
CALSCALE:GREGORIAN
BEGIN:VEVENT
DTSTART:20140124T150000Z
DTEND:20140124T220000Z
X-MICROSOFT-CDO-ALLDAYEVENT:FALSE
SUMMARY:CCCIA Builders' Showcase of Homes
DESCRIPTION:A Showcase of the finest model homes
X-ALT-DESC;FMTTYPE=text/html:A Showcase of the finest model homes
LOCATION:Various model homes throughout Cape Coral
UID:e.9117.181
SEQUENCE:3
DTSTAMP:20260422T161639Z
URL:http://cccia-dev.memberzone.com/events/details/cccia-builders-showcase-of-homes-01-24-2014-181
END:VEVENT

END:VCALENDAR
