BEGIN:VCALENDAR
VERSION:2.0
PRODID:-//ChamberMaster//Event Calendar 2.0//EN
METHOD:PUBLISH
X-PUBLISHED-TTL:P3D
REFRESH-INTERVAL:P3D
CALSCALE:GREGORIAN
BEGIN:VEVENT
DTSTART;VALUE=DATE:20120309
DTEND;VALUE=DATE:20120310
TRANSP:TRANSPARENT
X-MICROSOFT-CDO-ALLDAYEVENT:TRUE
SUMMARY:CCCIA Builders' Showcase 2012
DESCRIPTION:
X-ALT-DESC;FMTTYPE=text/html:
LOCATION:Cape Coral...It's where you want to be.
UID:e.9117.22
SEQUENCE:3
DTSTAMP:20260424T053018Z
URL:http://cccia-dev.memberzone.com/events/details/cccia-builders-showcase-2012-03-09-2012-22
END:VEVENT

END:VCALENDAR
