BEGIN:VCALENDAR
VERSION:2.0
PRODID:-//ChamberMaster//Event Calendar 2.0//EN
METHOD:PUBLISH
X-PUBLISHED-TTL:P3D
REFRESH-INTERVAL:P3D
CALSCALE:GREGORIAN
BEGIN:VEVENT
DTSTART:20160621T213000Z
DTEND:20160622T000000Z
X-MICROSOFT-CDO-ALLDAYEVENT:FALSE
SUMMARY:CCCIA & BIA Joint Mixer
DESCRIPTION:The CCCIA & BIA Joint Mixer  \n\nWe Want To Give You The\n\nRed Capret Treatment
X-ALT-DESC;FMTTYPE=text/html:<strong><span style="font-size:16px\;"><span style="font-family:arial\;">The CCCIA&nbsp\;&amp\; BIA Joint Mixer&nbsp\;&nbsp\;<br />\nWe Want To Give You The<br />\nRed Capret&nbsp\;Treatment&nbsp\;&nbsp\;&nbsp\;</span></span></strong>
LOCATION:Wayne Wile Floor Coverings 16240 S. Tamiami Trail Ft. Myers\, FL.
UID:e.9117.508
SEQUENCE:3
DTSTAMP:20260420T045349Z
URL:http://cccia-dev.memberzone.com/events/details/cccia-bia-joint-mixer-06-21-2016-508
END:VEVENT

END:VCALENDAR
