BEGIN:VCALENDAR
VERSION:2.0
PRODID:-//ChamberMaster//Event Calendar 2.0//EN
METHOD:PUBLISH
X-PUBLISHED-TTL:P3D
REFRESH-INTERVAL:P3D
CALSCALE:GREGORIAN
BEGIN:VEVENT
DTSTART:20140624T213000Z
DTEND:20140624T233000Z
X-MICROSOFT-CDO-ALLDAYEVENT:FALSE
SUMMARY:CCCIA & BIA Annual Joint Mixer
DESCRIPTION:CCCIA & BIA Annual Joint Mixer\n\n \n\nThis outstanding program gathers a wide array of industry professionals that includes members of the Construction Specifications Institute\, Real Estate Investment Society\, US Green Building Council Florida Gulf Coast Chapter\, the Urban Land Institute\, and Promised Lands Section of APAFL local chapters.
X-ALT-DESC;FMTTYPE=text/html:<div style="text-align: center\;"><span style="font-size: 14px\;"><span style="font-family: verdana\,sans-serif\;"><span style="color: black\;"><strong>CCCIA &amp\; BIA Annual Joint Mixer</strong></span></span><br />\n&nbsp\;</span></div>\n\n<div style="text-align: justify\;"><span style="font-size: 14px\;"><span style="font-family: verdana\,sans-serif\;"><span style="color: black\;">This outstanding program gathers a wide array of industry professionals that includes members of the Construction Specifications Institute\, Real Estate Investment Society\, US Green Building Council Florida Gulf Coast Chapter\, the Urban Land Institute\, and Promised Lands Section of APAFL local chapters.</span></span></span></div>\n
LOCATION:The Crowne Plaza 13051 Bell Tower Drive Fort Myers\, FL 33907
UID:e.9117.477
SEQUENCE:3
DTSTAMP:20260422T001902Z
URL:http://cccia-dev.memberzone.com/events/details/cccia-bia-annual-joint-mixer-06-24-2014-477
END:VEVENT

END:VCALENDAR
