BEGIN:VCALENDAR
VERSION:2.0
PRODID:-//ChamberMaster//Event Calendar 2.0//EN
METHOD:PUBLISH
X-PUBLISHED-TTL:P3D
REFRESH-INTERVAL:P3D
CALSCALE:GREGORIAN
BEGIN:VEVENT
DTSTART:20150813T213000Z
DTEND:20150813T234500Z
X-MICROSOFT-CDO-ALLDAYEVENT:FALSE
SUMMARY:CCCIA August General Membership Dinner Meeting
DESCRIPTION:CCCIA August General Membership Dinner Meeting    \n\nTopic: City Council Candidate Forum \n\n            For Districts 2 \,3 & 7   \n\n\n\nModerator: \n\n                 \n\nDinner Sponsor:   Achieva Credit Union
X-ALT-DESC;FMTTYPE=text/html:<span style="font-size:14px\;"><em style="line-height: 20.7999992370605px\;"><strong><span style="line-height: 20.7999992370605px\;">CCCIA&nbsp\;August General Membership Dinner Meeting&nbsp\;&nbsp\;&nbsp\;&nbsp\;</span></strong></em></span><br style="line-height: 20.7999992370605px\;" />\n<em><span style="font-size:14px\;"><strong style="line-height: 20.7999992370605px\;">Topic: City Council&nbsp\;Candidate&nbsp\;Forum&nbsp\;<br />\n&nbsp\;&nbsp\; &nbsp\; &nbsp\; &nbsp\; &nbsp\; &nbsp\;For Districts 2 \,3 &amp\; 7 &nbsp\;&nbsp\;</strong></span></em><br style="line-height: 20.7999992370605px\;" />\n<br />\n<em><span style="font-size:14px\;"><strong style="line-height: 20.7999992370605px\;">Moderator: </strong><br style="line-height: 20.7999992370605px\;" />\n<span style="line-height: 20.7999992370605px\;">&nbsp\;&nbsp\; &nbsp\; &nbsp\; &nbsp\; &nbsp\; &nbsp\; &nbsp\; &nbsp\;</span><strong style="line-height: 20.7999992370605px\;">&nbsp\;</strong><br style="line-height: 20.7999992370605px\;" />\n<strong style="line-height: 20.7999992370605px\;">Dinner Sponsor:</strong><span style="line-height: 20.7999992370605px\;">&nbsp\;</span><span style="line-height: 20.7999992370605px\;">&nbsp\; Achieva Credit Union</span></span></em>
LOCATION:Palmetto Pines Country Club 1940 SW 9th Court Cape Coral. FL 33991
UID:e.9117.492
SEQUENCE:3
DTSTAMP:20260420T202852Z
URL:http://cccia-dev.memberzone.com/events/details/cccia-august-general-membership-dinner-meeting-08-13-2015-492
END:VEVENT

END:VCALENDAR
