BEGIN:VCALENDAR
VERSION:2.0
PRODID:-//ChamberMaster//Event Calendar 2.0//EN
METHOD:PUBLISH
X-PUBLISHED-TTL:P3D
REFRESH-INTERVAL:P3D
CALSCALE:GREGORIAN
BEGIN:VEVENT
DTSTART:20140116T223000Z
DTEND:20140117T010000Z
X-MICROSOFT-CDO-ALLDAYEVENT:FALSE
SUMMARY:Builders' Showcase Awards Dinner 2014
DESCRIPTION:General Dinner Meeting\n\nCCCIA Showcase Awards Presentation
X-ALT-DESC;FMTTYPE=text/html:General Dinner Meeting<br />\nCCCIA Showcase Awards Presentation
LOCATION:Palmetto Pine Country Club
UID:e.9117.180
SEQUENCE:3
DTSTAMP:20260422T103706Z
URL:http://cccia-dev.memberzone.com/events/details/builders-showcase-awards-dinner-2014-01-16-2014-180
END:VEVENT

END:VCALENDAR
