BEGIN:VCALENDAR
VERSION:2.0
PRODID:-//ChamberMaster//Event Calendar 2.0//EN
METHOD:PUBLISH
X-PUBLISHED-TTL:P3D
REFRESH-INTERVAL:P3D
CALSCALE:GREGORIAN
BEGIN:VEVENT
DTSTART:20150409T213000Z
DTEND:20150409T234500Z
X-MICROSOFT-CDO-ALLDAYEVENT:FALSE
SUMMARY:April Dinner Meeting
DESCRIPTION:CCCIA April Dinner Meeting    \n\nTopic: People Are Your Most Valuable Resource \n\nSpeaker: Claudia A. Monte\, CAM Consulting Group  \n\n                 \n\nDinner Sponsor: Stokes Marine\, Inc.
X-ALT-DESC;FMTTYPE=text/html:<em style="line-height: 20.7999992370605px\;"><strong><span style="line-height: 20.7999992370605px\;">&#8203\;CCCIA&nbsp\;April Dinner Meeting&nbsp\;&nbsp\;&nbsp\;&nbsp\;</span></strong></em><br style="line-height: 20.7999992370605px\;" />\n<strong style="line-height: 20.7999992370605px\;">Topic: People Are Your Most Valuable Resource&nbsp\;</strong><br style="line-height: 20.7999992370605px\;" />\n<strong style="line-height: 20.7999992370605px\;">Speaker: Claudia A. Monte\, CAM Consulting Group &nbsp\;</strong><br style="line-height: 20.7999992370605px\;" />\n<span style="line-height: 20.7999992370605px\;">&nbsp\;&nbsp\; &nbsp\; &nbsp\; &nbsp\; &nbsp\; &nbsp\; &nbsp\; &nbsp\;</span><strong style="line-height: 20.7999992370605px\;">&nbsp\;</strong><br style="line-height: 20.7999992370605px\;" />\n<strong style="line-height: 20.7999992370605px\;">Dinner Sponsor:</strong><span style="line-height: 20.7999992370605px\;">&nbsp\;<em><strong>Stokes Marine\, Inc.&nbsp\;</strong></em></span>
LOCATION:Palmetto Pines Country Club 1940 SW 9th Court Cape Coral. FL 33991
UID:e.9117.487
SEQUENCE:3
DTSTAMP:20260421T031458Z
URL:http://cccia-dev.memberzone.com/events/details/april-dinner-meeting-04-09-2015-487
END:VEVENT

END:VCALENDAR
