BEGIN:VCALENDAR
VERSION:2.0
PRODID:-//ChamberMaster//Event Calendar 2.0//EN
METHOD:PUBLISH
X-PUBLISHED-TTL:P3D
REFRESH-INTERVAL:P3D
CALSCALE:GREGORIAN
BEGIN:VEVENT
DTSTART:20160414T213000Z
DTEND:20160415T000000Z
X-MICROSOFT-CDO-ALLDAYEVENT:FALSE
SUMMARY:April CCCIA General Membership Dinner Meeting
DESCRIPTION:CCCIA April 2016 General Membership Dinner Meeting    \n\nTopic:   Water Do We Have Enough?\n\nPanel: Scott King- Florida Irrigation Society President\n\n            Robert Diersing - Rainbird Corporation      \n\n\n\nDinner Sponsor: BB&T
X-ALT-DESC;FMTTYPE=text/html:<span style="font-size: 14px\;"><em style="line-height: 20.8px\;"><strong><span style="line-height: 20.8px\;">CCCIA&nbsp\;April&nbsp\;2016 General Membership Dinner Meeting&nbsp\;&nbsp\;&nbsp\;&nbsp\;</span></strong></em><br style="line-height: 20.8px\;" />\n<em style="line-height: 20.8px\;"><strong style="line-height: 20.8px\;">Topic: &nbsp\; Water Do We Have Enough?<br />\nPanel: Scott King- Florida Irrigation Society President<br />\n&nbsp\; &nbsp\; &nbsp\; &nbsp\; &nbsp\; &nbsp\; Robert Diersing - Rainbird Corporation&nbsp\;&nbsp\; &nbsp\; &nbsp\;<br />\n<br />\nDinner Sponsor: BB&amp\;T&nbsp\;</strong></em></span>
LOCATION:Palmetto Pines Country Club 1940 SW 9th Court Cape Coral. FL 33991
UID:e.9117.506
SEQUENCE:3
DTSTAMP:20260420T063755Z
URL:http://cccia-dev.memberzone.com/events/details/april-cccia-general-membership-dinner-meeting-04-14-2016-506
END:VEVENT

END:VCALENDAR
