BEGIN:VCALENDAR
VERSION:2.0
PRODID:-//ChamberMaster//Event Calendar 2.0//EN
METHOD:PUBLISH
X-PUBLISHED-TTL:P3D
REFRESH-INTERVAL:P3D
CALSCALE:GREGORIAN
BEGIN:VEVENT
DTSTART;VALUE=DATE:20161007
DTEND;VALUE=DATE:20161008
TRANSP:TRANSPARENT
X-MICROSOFT-CDO-ALLDAYEVENT:TRUE
SUMMARY:2016 Lutgert Insurance 10 Million Dollar CCCIA Fall Shootout
DESCRIPTION:2016 Lutgert Insurance\n\n10 Million Dollar \n\nCCCIA Fall Shootout
X-ALT-DESC;FMTTYPE=text/html:<span style="font-size:18px\;"><span style="font-family:arial\;"><strong style="line-height: 20.8px\;">2016&nbsp\;Lutgert&nbsp\;Insurance<br />\n10 Million Dollar&nbsp\;<br />\nCCCIA&nbsp\;Fall Shootout &nbsp\;&nbsp\;</strong></span></span>
LOCATION:Coral Oaks Golf Course 1800 NW 28th Ave. Cape Coral\, FL. 33993
UID:e.9117.515
SEQUENCE:3
DTSTAMP:20260419T221923Z
URL:http://cccia-dev.memberzone.com/events/details/2016-lutgert-insurance-10-million-dollar-cccia-fall-shootout-515
END:VEVENT

END:VCALENDAR
