BEGIN:VCALENDAR
VERSION:2.0
PRODID:-//ChamberMaster//Event Calendar 2.0//EN
METHOD:PUBLISH
X-PUBLISHED-TTL:P3D
REFRESH-INTERVAL:P3D
CALSCALE:GREGORIAN
BEGIN:VEVENT
DTSTART:20160715T213000Z
DTEND:20160716T030000Z
X-MICROSOFT-CDO-ALLDAYEVENT:FALSE
SUMMARY:2016 CCCIA Hard Hat Hold'em Poker Tournament presented by: Ron Schmitt Construction / ARS Roofing Services
DESCRIPTION:2016 CCCIA Hard Hat Hold'em Poker Tournament \n\nPresented by: Ron Schmitt Construction / ARS Roofing Services
X-ALT-DESC;FMTTYPE=text/html:<span style="font-family:arial\;"><span style="font-size:14px\;"><span style="font-size:16px\;"><strong><span style="font-family:verdana\;">2016 CCCIA&nbsp\;Hard Hat Hold&#39\;em Poker Tournament&nbsp\;<br />\nPresented by: Ron Schmitt Construction / ARS Roofing Services&nbsp\;</span></strong></span></span></span>
LOCATION:Cape Cabaret 4725 Vincennes Blvd Cape Coral\, FL. 33904
UID:e.9117.511
SEQUENCE:3
DTSTAMP:20260420T013858Z
URL:http://cccia-dev.memberzone.com/events/details/2016-cccia-hard-hat-hold-em-poker-tournament-presented-by-ron-schmitt-construction-ars-roofing-services-07-15-2016-511
END:VEVENT

END:VCALENDAR
