BEGIN:VCALENDAR
VERSION:2.0
PRODID:-//ChamberMaster//Event Calendar 2.0//EN
METHOD:PUBLISH
X-PUBLISHED-TTL:P3D
REFRESH-INTERVAL:P3D
CALSCALE:GREGORIAN
BEGIN:VEVENT
DTSTART;VALUE=DATE:20160205
DTEND;VALUE=DATE:20160208
TRANSP:TRANSPARENT
X-MICROSOFT-CDO-ALLDAYEVENT:TRUE
SUMMARY:2016 CCCIA Builders Showcase of Homes
DESCRIPTION:2016 CCCIA Builders Showcase of Homes \n\nInformation on our website cccia.org \n\nBuilders Showcase Section
X-ALT-DESC;FMTTYPE=text/html:<em style="font-size: 18px\; line-height: 28.8px\;"><strong><span style="font-family: arial\;">2016&nbsp\;CCCIA&nbsp\;Builders Showcase of Homes&nbsp\;</span><br />\nInformation on our website cccia.org&nbsp\;<br />\nBuilders Showcase&nbsp\;Section&nbsp\;</strong></em>
LOCATION:
UID:e.9117.502
SEQUENCE:3
DTSTAMP:20260420T113819Z
URL:http://cccia-dev.memberzone.com/events/details/2016-cccia-builders-showcase-of-homes-02-05-2016-502
END:VEVENT

END:VCALENDAR
