BEGIN:VCALENDAR
VERSION:2.0
PRODID:-//ChamberMaster//Event Calendar 2.0//EN
METHOD:PUBLISH
X-PUBLISHED-TTL:P3D
REFRESH-INTERVAL:P3D
CALSCALE:GREGORIAN
BEGIN:VEVENT
DTSTART;VALUE=DATE:20160122
DTEND;VALUE=DATE:20160125
TRANSP:TRANSPARENT
X-MICROSOFT-CDO-ALLDAYEVENT:TRUE
SUMMARY:2016 CCCIA Builders Showcase of Homes
DESCRIPTION:2016 CCCIA Builders Showcase of Homes \n\nInformation on our website cccia.org \n\nBuilders Showcase Section
X-ALT-DESC;FMTTYPE=text/html:<span style="font-size:18px\;"><em><strong><span style="font-family:arial\;">2016 CCCIA&nbsp\;Builders Showcase of Homes&nbsp\;</span><br />\nInformation on our website cccia.org&nbsp\;<br />\nBuilders Showcase&nbsp\;Section&nbsp\;</strong></em></span>
LOCATION:
UID:e.9117.500
SEQUENCE:3
DTSTAMP:20260420T113818Z
URL:http://cccia-dev.memberzone.com/events/details/2016-cccia-builders-showcase-of-homes-01-22-2016-500
END:VEVENT

END:VCALENDAR
