BEGIN:VCALENDAR
VERSION:2.0
PRODID:-//ChamberMaster//Event Calendar 2.0//EN
METHOD:PUBLISH
X-PUBLISHED-TTL:P3D
REFRESH-INTERVAL:P3D
CALSCALE:GREGORIAN
BEGIN:VEVENT
DTSTART:20151211T230000Z
DTEND:20151212T030000Z
X-MICROSOFT-CDO-ALLDAYEVENT:FALSE
SUMMARY:2015 CCCIA ACE Awards & Annual Holiday Party
DESCRIPTION:2015 CCCIA ACE Awards\n\n                  &\n\nAnnual Holiday Party
X-ALT-DESC;FMTTYPE=text/html:<strong><em><span style="font-family:tahoma\;"><span style="font-size:18px\;">2015 CCCIA&nbsp\;ACE Awards<br />\n&nbsp\;&nbsp\; &nbsp\; &nbsp\; &nbsp\; &nbsp\; &nbsp\; &nbsp\; &nbsp\; &nbsp\;&amp\;<br />\nAnnual Holiday Party&nbsp\;</span></span></em></strong>
LOCATION:Harborside Event Center 1375 Monroe Street Ft. Myers\, FL. 33901
UID:e.9117.497
SEQUENCE:3
DTSTAMP:20260420T133430Z
URL:http://cccia-dev.memberzone.com/events/details/2015-cccia-ace-awards-annual-holiday-party-12-11-2015-497
END:VEVENT

END:VCALENDAR
