BEGIN:VCALENDAR
VERSION:2.0
PRODID:-//ChamberMaster//Event Calendar 2.0//EN
METHOD:PUBLISH
X-PUBLISHED-TTL:P3D
REFRESH-INTERVAL:P3D
CALSCALE:GREGORIAN
BEGIN:VEVENT
DTSTART:20141018T123000Z
DTEND:20141018T180000Z
X-MICROSOFT-CDO-ALLDAYEVENT:FALSE
SUMMARY:2014 Lutgert Fall Shoot Out
DESCRIPTION:Shotgun Start\n\nCash Prizes\n\nCrystal Loving Cup Trophy\n\nLunch\, Beer & Breakfast included
X-ALT-DESC;FMTTYPE=text/html:Shotgun Start<br />\nCash Prizes<br />\nCrystal Loving Cup Trophy<br />\nLunch\, Beer &amp\; Breakfast included
LOCATION:Palmetto Pine Country Club 1940 SW 9th Court Cape Coral\, FL 33991
UID:e.9117.461
SEQUENCE:3
DTSTAMP:20260421T155757Z
URL:http://cccia-dev.memberzone.com/events/details/2014-lutgert-fall-shoot-out-10-18-2014-461
END:VEVENT

END:VCALENDAR
