BEGIN:VCALENDAR
VERSION:2.0
PRODID:-//ChamberMaster//Event Calendar 2.0//EN
METHOD:PUBLISH
X-PUBLISHED-TTL:P3D
REFRESH-INTERVAL:P3D
CALSCALE:GREGORIAN
BEGIN:VEVENT
DTSTART:20141212T233000Z
DTEND:20141213T040000Z
X-MICROSOFT-CDO-ALLDAYEVENT:FALSE
SUMMARY:2014 Holiday Party & ACE Awards
DESCRIPTION:ACE Awards & 2015 Board of Directors Installation
X-ALT-DESC;FMTTYPE=text/html:ACE Awards &amp\; 2015 Board of Directors Installation
LOCATION:Palmetto Pine Country Club 1940 SW 9th Court Cape Coral\, FL. 33993
UID:e.9117.238
SEQUENCE:3
DTSTAMP:20260421T094416Z
URL:http://cccia-dev.memberzone.com/events/details/2014-holiday-party-ace-awards-12-12-2014-238
END:VEVENT

END:VCALENDAR
