BEGIN:VCALENDAR
VERSION:2.0
PRODID:-//ChamberMaster//Event Calendar 2.0//EN
METHOD:PUBLISH
X-PUBLISHED-TTL:P3D
REFRESH-INTERVAL:P3D
CALSCALE:GREGORIAN
BEGIN:VEVENT
DTSTART:20140718T213000Z
DTEND:20140719T033000Z
X-MICROSOFT-CDO-ALLDAYEVENT:FALSE
SUMMARY:2014 Hard Hat Hold'em Poker Tournament
DESCRIPTION:Hard Hat Hold'em Poker Tournament \n\n$85 Player/$30 Spectator
X-ALT-DESC;FMTTYPE=text/html:Hard Hat Hold&#39\;em Poker Tournament&nbsp\;<br />\n$85 Player/$30 Spectator<br />\n&nbsp\;
LOCATION:Cape Coral Yacht Club 5819 Driftwood Parkway Cape Coral\, FL
UID:e.9117.209
SEQUENCE:3
DTSTAMP:20260422T040756Z
URL:http://cccia-dev.memberzone.com/events/details/2014-hard-hat-hold-em-poker-tournament-07-18-2014-209
END:VEVENT

END:VCALENDAR
