BEGIN:VCALENDAR
VERSION:2.0
PRODID:-//ChamberMaster//Event Calendar 2.0//EN
METHOD:PUBLISH
X-PUBLISHED-TTL:P3D
REFRESH-INTERVAL:P3D
CALSCALE:GREGORIAN
BEGIN:VEVENT
DTSTART:20131219T133000Z
DTEND:20131219T180000Z
X-MICROSOFT-CDO-ALLDAYEVENT:FALSE
SUMMARY:2014 Board Retreat
DESCRIPTION:Strategic Planning for 2014\n\nTeam Building
X-ALT-DESC;FMTTYPE=text/html:Strategic Planning for 2014<br />\nTeam Building
LOCATION:Palmetto Pine Country Club Board Room
UID:e.9117.179
SEQUENCE:3
DTSTAMP:20260422T122156Z
URL:http://cccia-dev.memberzone.com/events/details/2014-board-retreat-12-19-2013-179
END:VEVENT

END:VCALENDAR
